BEGIN:VCALENDAR
VERSION:2.0
PRODID:-//Electricity Human Resources Canada - ECPv6.15.17.1//NONSGML v1.0//EN
CALSCALE:GREGORIAN
METHOD:PUBLISH
X-ORIGINAL-URL:https://ehrc.ca
X-WR-CALDESC:Events for Electricity Human Resources Canada
REFRESH-INTERVAL;VALUE=DURATION:PT1H
X-Robots-Tag:noindex
X-PUBLISHED-TTL:PT1H
BEGIN:VTIMEZONE
TZID:America/Toronto
BEGIN:DAYLIGHT
TZOFFSETFROM:-0500
TZOFFSETTO:-0400
TZNAME:EDT
DTSTART:20230312T070000
END:DAYLIGHT
BEGIN:STANDARD
TZOFFSETFROM:-0400
TZOFFSETTO:-0500
TZNAME:EST
DTSTART:20231105T060000
END:STANDARD
BEGIN:DAYLIGHT
TZOFFSETFROM:-0500
TZOFFSETTO:-0400
TZNAME:EDT
DTSTART:20240310T070000
END:DAYLIGHT
BEGIN:STANDARD
TZOFFSETFROM:-0400
TZOFFSETTO:-0500
TZNAME:EST
DTSTART:20241103T060000
END:STANDARD
BEGIN:DAYLIGHT
TZOFFSETFROM:-0500
TZOFFSETTO:-0400
TZNAME:EDT
DTSTART:20250309T070000
END:DAYLIGHT
BEGIN:STANDARD
TZOFFSETFROM:-0400
TZOFFSETTO:-0500
TZNAME:EST
DTSTART:20251102T060000
END:STANDARD
BEGIN:DAYLIGHT
TZOFFSETFROM:-0500
TZOFFSETTO:-0400
TZNAME:EDT
DTSTART:20260308T070000
END:DAYLIGHT
BEGIN:STANDARD
TZOFFSETFROM:-0400
TZOFFSETTO:-0500
TZNAME:EST
DTSTART:20261101T060000
END:STANDARD
BEGIN:DAYLIGHT
TZOFFSETFROM:-0500
TZOFFSETTO:-0400
TZNAME:EDT
DTSTART:20270314T070000
END:DAYLIGHT
BEGIN:STANDARD
TZOFFSETFROM:-0400
TZOFFSETTO:-0500
TZNAME:EST
DTSTART:20271107T060000
END:STANDARD
END:VTIMEZONE
BEGIN:VEVENT
DTSTART;TZID=America/Toronto:20260219T080000
DTEND;TZID=America/Toronto:20260219T143000
DTSTAMP:20260421T135102
CREATED:20251205T215654Z
LAST-MODIFIED:20260316T174208Z
UID:10000066-1771488000-1771511400@ehrc.ca
SUMMARY:13th Annual EHRC Awards of Excellence
DESCRIPTION:
URL:https://ehrc.ca/event/awards-2026/
LOCATION:Vantage Venues\, 150 King St West\, Toronto\, Ontario\, M5H 1J9\, Canada
CATEGORIES:Awards of Excellence
ATTACH;FMTTYPE=image/jpeg:https://ehrc.ca/wp-content/uploads/2025/12/20250220-EHRC-AOE-700253-scaled.jpeg
ORGANIZER;CN="EHRC":MAILTO:info@ehrc.ca
END:VEVENT
BEGIN:VEVENT
DTSTART;TZID=America/Toronto:20250220T080000
DTEND;TZID=America/Toronto:20250220T141500
DTSTAMP:20260421T135102
CREATED:20240905T145928Z
LAST-MODIFIED:20250227T215120Z
UID:10000047-1740038400-1740060900@ehrc.ca
SUMMARY:12th Annual Awards of Excellence
DESCRIPTION:
URL:https://ehrc.ca/event/awards-2025/
LOCATION:Vantage Venues\, 150 King St West\, Toronto\, Ontario\, M5H 1J9\, Canada
CATEGORIES:Awards of Excellence
ATTACH;FMTTYPE=image/jpeg:https://ehrc.ca/wp-content/uploads/2024/09/20240215-ehrc-pp706146-ppp-scaled.jpeg
ORGANIZER;CN="EHRC":MAILTO:info@ehrc.ca
END:VEVENT
BEGIN:VEVENT
DTSTART;VALUE=DATE:20240215
DTEND;VALUE=DATE:20240216
DTSTAMP:20260421T135102
CREATED:20230714T162828Z
LAST-MODIFIED:20240111T140344Z
UID:10000011-1707955200-1708041599@ehrc.ca
SUMMARY:11th Annual Electricity Sector Awards of Excellence
DESCRIPTION:The Electricity Sector Awards of Excellence is a unique\, national event designed to highlight and honour exceptional leadership\, innovative HR programming\, and workplace champions. It is attended by employers\, labour\, education\, and government representatives working with\, and within\, the sector. The goal is to connect\, convene\, and inspire innovation within the industry and to assist with its evolution. \nThe Awards represent an exclusive opportunity to collaborate and celebrate with your peers while learning of current\, cutting edge\, HR best practices within the industry. We look forward to seeing you again and hope you will consider attending. \nRegister Now
URL:https://ehrc.ca/event/11th-awards-of-excellence/
LOCATION:Vantage Venues\, 150 King St West\, Toronto\, Ontario\, M5H 1J9\, Canada
ATTACH;FMTTYPE=image/jpeg:https://ehrc.ca/wp-content/uploads/2023/07/Awards-of-Excellence-Trophies.jpg
ORGANIZER;CN="EHRC":MAILTO:info@ehrc.ca
END:VEVENT
END:VCALENDAR